BEGIN:VCALENDAR
VERSION:2.0
PRODID:-//Whiskywelt Burg Scharfenstein - ECPv6.15.11//NONSGML v1.0//EN
CALSCALE:GREGORIAN
METHOD:PUBLISH
X-WR-CALNAME:Whiskywelt Burg Scharfenstein
X-ORIGINAL-URL:https://whiskywelt-burg-scharfenstein.de
X-WR-CALDESC:Veranstaltungen für Whiskywelt Burg Scharfenstein
REFRESH-INTERVAL;VALUE=DURATION:PT1H
X-Robots-Tag:noindex
X-PUBLISHED-TTL:PT1H
BEGIN:VTIMEZONE
TZID:Europe/Berlin
BEGIN:DAYLIGHT
TZOFFSETFROM:+0100
TZOFFSETTO:+0200
TZNAME:CEST
DTSTART:20180325T010000
END:DAYLIGHT
BEGIN:STANDARD
TZOFFSETFROM:+0200
TZOFFSETTO:+0100
TZNAME:CET
DTSTART:20181028T010000
END:STANDARD
BEGIN:DAYLIGHT
TZOFFSETFROM:+0100
TZOFFSETTO:+0200
TZNAME:CEST
DTSTART:20190331T010000
END:DAYLIGHT
BEGIN:STANDARD
TZOFFSETFROM:+0200
TZOFFSETTO:+0100
TZNAME:CET
DTSTART:20191027T010000
END:STANDARD
BEGIN:DAYLIGHT
TZOFFSETFROM:+0100
TZOFFSETTO:+0200
TZNAME:CEST
DTSTART:20200329T010000
END:DAYLIGHT
BEGIN:STANDARD
TZOFFSETFROM:+0200
TZOFFSETTO:+0100
TZNAME:CET
DTSTART:20201025T010000
END:STANDARD
END:VTIMEZONE
BEGIN:VEVENT
DTSTART;TZID=Europe/Berlin:20190713T113000
DTEND;TZID=Europe/Berlin:20190713T130000
DTSTAMP:20260419T184717
CREATED:20190708T120835Z
LAST-MODIFIED:20190708T122618Z
UID:1237-1563017400-1563022800@whiskywelt-burg-scharfenstein.de
SUMMARY:Historische Burgführung
DESCRIPTION:Wer einmal tiefer in die Geschichte der mehr als 800 Jahre alten Burg Scharfenstein eintauchen möchte\, ist bei dieser geführten historischen Tour genau richtig. Besichtigt wird neben dem Gelände und Burghof auch die Kernburg mit der Whiskyerlebniswelt\, alles natürlich unter dem historischen Apsekt. \nDauer ca. 1\,5 Stunden – € 6\,00/Person \nNur nach Voranmeldung unter info@whiskywelt-scharfenstein.de \n\n\n\n  \n\n\n\n Ihr Name (Pflichtfeld)\n \n \n Personenanzahl (Pflichtfeld)\n \n \n Ihre E-Mail-Adresse (Pflichtfeld)\n \n \n Telefon (Pflichtfeld)\n \n \n Hier bitte keine Eingabe machen!\n \nBitte lasse dieses Feld leer.\n \n Deine Nachricht\n\n \nIch habe die Datenschutzerklärung zur Kenntnis genommen. Ich stimme zu\, dass meine Angaben und Daten zur Beantwortung meiner Anfrage elektronisch erhoben und gespeichert werden.
URL:https://whiskywelt-burg-scharfenstein.de/termin/historische-burgfuehrung/
ATTACH;FMTTYPE=image/jpeg:https://whiskywelt-burg-scharfenstein.de/wp-content/uploads/2019/07/Image-01-e1562587333817.jpg
END:VEVENT
END:VCALENDAR