BEGIN:VCALENDAR
VERSION:2.0
PRODID:-//Whiskywelt Burg Scharfenstein - ECPv6.15.11//NONSGML v1.0//EN
CALSCALE:GREGORIAN
METHOD:PUBLISH
X-ORIGINAL-URL:https://whiskywelt-burg-scharfenstein.de
X-WR-CALDESC:Veranstaltungen für Whiskywelt Burg Scharfenstein
REFRESH-INTERVAL;VALUE=DURATION:PT1H
X-Robots-Tag:noindex
X-PUBLISHED-TTL:PT1H
BEGIN:VTIMEZONE
TZID:Europe/Berlin
BEGIN:DAYLIGHT
TZOFFSETFROM:+0100
TZOFFSETTO:+0200
TZNAME:CEST
DTSTART:20180325T010000
END:DAYLIGHT
BEGIN:STANDARD
TZOFFSETFROM:+0200
TZOFFSETTO:+0100
TZNAME:CET
DTSTART:20181028T010000
END:STANDARD
BEGIN:DAYLIGHT
TZOFFSETFROM:+0100
TZOFFSETTO:+0200
TZNAME:CEST
DTSTART:20190331T010000
END:DAYLIGHT
BEGIN:STANDARD
TZOFFSETFROM:+0200
TZOFFSETTO:+0100
TZNAME:CET
DTSTART:20191027T010000
END:STANDARD
BEGIN:DAYLIGHT
TZOFFSETFROM:+0100
TZOFFSETTO:+0200
TZNAME:CEST
DTSTART:20200329T010000
END:DAYLIGHT
BEGIN:STANDARD
TZOFFSETFROM:+0200
TZOFFSETTO:+0100
TZNAME:CET
DTSTART:20201025T010000
END:STANDARD
END:VTIMEZONE
BEGIN:VEVENT
DTSTART;TZID=Europe/Berlin:20191003T150000
DTEND;TZID=Europe/Berlin:20191003T163000
DTSTAMP:20260420T180132
CREATED:20190606T074806Z
LAST-MODIFIED:20190923T082220Z
UID:1149-1570114800-1570120200@whiskywelt-burg-scharfenstein.de
SUMMARY:Geführte Whiskytour -Ausgebucht-
DESCRIPTION:Führungen durch die Whiskyerlebniswelt. Dauer ca. 1\,5 -2 Stunden\, mit Einführung durch unser Whiskykino\, Erläuterung des Herstellungsprozesses\, zahlreichen Informationen zum Whisky und zwei Verkostungsproben. \nPreis pro Person € 18\,00 \nDie Tour ist leider bereits ausgebucht.
URL:https://whiskywelt-burg-scharfenstein.de/termin/gefuehrte-whiskytour-17/
CATEGORIES:Geführte Whiskytouren
ATTACH;FMTTYPE=image/jpeg:https://whiskywelt-burg-scharfenstein.de/wp-content/uploads/2019/05/24-e1559807263720.jpg
END:VEVENT
BEGIN:VEVENT
DTSTART;TZID=Europe/Berlin:20191005T153000
DTEND;TZID=Europe/Berlin:20191005T170000
DTSTAMP:20260420T180132
CREATED:20190606T074920Z
LAST-MODIFIED:20190923T082310Z
UID:1152-1570289400-1570294800@whiskywelt-burg-scharfenstein.de
SUMMARY:Geführte Whiskytour -Ausgebucht-
DESCRIPTION:Führungen durch die Whiskyerlebniswelt. Dauer ca. 1\,5 -2 Stunden\, mit Einführung durch unser Whiskykino\, Erläuterung des Herstellungsprozesses\, zahlreichen Informationen zum Whisky und zwei Verkostungsproben. \nPreis pro Person € 18\,00 \nDie Tour ist leider bereits ausgebucht.
URL:https://whiskywelt-burg-scharfenstein.de/termin/gefuehrte-whiskytour-18/
CATEGORIES:Geführte Whiskytouren
ATTACH;FMTTYPE=image/jpeg:https://whiskywelt-burg-scharfenstein.de/wp-content/uploads/2019/06/IMG-20190531-WA0003-e1559806884797.jpg
END:VEVENT
BEGIN:VEVENT
DTSTART;TZID=Europe/Berlin:20191019T150000
DTEND;TZID=Europe/Berlin:20191019T163000
DTSTAMP:20260420T180132
CREATED:20190606T075101Z
LAST-MODIFIED:20191015T090523Z
UID:1154-1571497200-1571502600@whiskywelt-burg-scharfenstein.de
SUMMARY:Geführte Whiskytour -Ausgebucht-
DESCRIPTION:Führungen durch die Whiskyerlebniswelt. Dauer ca. 1\,5 -2 Stunden\, mit Einführung durch unser Whiskykino\, Erläuterung des Herstellungsprozesses\, zahlreichen Informationen zum Whisky und zwei Verkostungsproben. \nDiese Tour ist bereits ausgebucht\, eine Voranmeldung ist daher nicht mehr möglich.
URL:https://whiskywelt-burg-scharfenstein.de/termin/gefuehrte-whiskytour-19/
CATEGORIES:Geführte Whiskytouren
ATTACH;FMTTYPE=image/jpeg:https://whiskywelt-burg-scharfenstein.de/wp-content/uploads/2019/05/24-e1559807263720.jpg
END:VEVENT
BEGIN:VEVENT
DTSTART;TZID=Europe/Berlin:20191026T190000
DTEND;TZID=Europe/Berlin:20191026T190000
DTSTAMP:20260420T180132
CREATED:20190912T105038Z
LAST-MODIFIED:20190912T105038Z
UID:1538-1572116400-1572116400@whiskywelt-burg-scharfenstein.de
SUMMARY:Whiskytasting
DESCRIPTION:In regelmäßigen Abständen veranstalten wir Tastingabende in unserem historischen Gewölbekeller\, bei denen Referenten viel Wissenswertes über Whisky\, Rum oder Gin vorstellen. \nDabei werden natürlich auch mindestens 5 verschiedene Edelspirituosen unterschiedlichster Herkunft präsentiert. \nReferent: Hans Strenge / Thema: Vom Wein zum Whisky \nVerkostet werden verschiedene Weine zusammen mit den Whiskys\, die in den entsprechenden Weinfässern gelagert wurden. \nPreis: € 60\,00 \n  \n\n\n\n  \n\n\n\n Ihr Name (Pflichtfeld)\n \n \n Personenanzahl (Pflichtfeld)\n \n \n Ihre E-Mail-Adresse (Pflichtfeld)\n \n \n Telefon (Pflichtfeld)\n \n \n Hier bitte keine Eingabe machen!\n \nBitte lasse dieses Feld leer.\n \n Deine Nachricht\n\n \nIch habe die Datenschutzerklärung zur Kenntnis genommen. Ich stimme zu\, dass meine Angaben und Daten zur Beantwortung meiner Anfrage elektronisch erhoben und gespeichert werden.
URL:https://whiskywelt-burg-scharfenstein.de/termin/whiskytasting-4/
CATEGORIES:Tasting
ATTACH;FMTTYPE=image/jpeg:https://whiskywelt-burg-scharfenstein.de/wp-content/uploads/2014/07/Weißbach-25-e1564430637141.jpg
END:VEVENT
END:VCALENDAR