BEGIN:VCALENDAR
VERSION:2.0
PRODID:-//Whiskywelt Burg Scharfenstein - ECPv6.15.11//NONSGML v1.0//EN
CALSCALE:GREGORIAN
METHOD:PUBLISH
X-WR-CALNAME:Whiskywelt Burg Scharfenstein
X-ORIGINAL-URL:https://whiskywelt-burg-scharfenstein.de
X-WR-CALDESC:Veranstaltungen für Whiskywelt Burg Scharfenstein
REFRESH-INTERVAL;VALUE=DURATION:PT1H
X-Robots-Tag:noindex
X-PUBLISHED-TTL:PT1H
BEGIN:VTIMEZONE
TZID:Europe/Berlin
BEGIN:DAYLIGHT
TZOFFSETFROM:+0100
TZOFFSETTO:+0200
TZNAME:CEST
DTSTART:20180325T010000
END:DAYLIGHT
BEGIN:STANDARD
TZOFFSETFROM:+0200
TZOFFSETTO:+0100
TZNAME:CET
DTSTART:20181028T010000
END:STANDARD
BEGIN:DAYLIGHT
TZOFFSETFROM:+0100
TZOFFSETTO:+0200
TZNAME:CEST
DTSTART:20190331T010000
END:DAYLIGHT
BEGIN:STANDARD
TZOFFSETFROM:+0200
TZOFFSETTO:+0100
TZNAME:CET
DTSTART:20191027T010000
END:STANDARD
BEGIN:DAYLIGHT
TZOFFSETFROM:+0100
TZOFFSETTO:+0200
TZNAME:CEST
DTSTART:20200329T010000
END:DAYLIGHT
BEGIN:STANDARD
TZOFFSETFROM:+0200
TZOFFSETTO:+0100
TZNAME:CET
DTSTART:20201025T010000
END:STANDARD
END:VTIMEZONE
BEGIN:VEVENT
DTSTART;TZID=Europe/Berlin:20190629T140000
DTEND;TZID=Europe/Berlin:20190629T140000
DTSTAMP:20260419T135026
CREATED:20190613T130229Z
LAST-MODIFIED:20190628T120750Z
UID:1170-1561816800-1561816800@whiskywelt-burg-scharfenstein.de
SUMMARY:Tasting - "Vom Wein zum Whisky"
DESCRIPTION:Im Rahmen unserer Feierlichkeiten zum Tag des deutschen Whiskys bieten wir allen Interessierten um 14 Uhr ein Whiskytasting mit dem Titel:\n„Vom Wein zum Whisky“ an. Als Referentin wird erstmalig Margarete Marie\, auch bekannt als „die Powerfrau des deutschen Whiskys“\, bei uns zu Gast sein und die Teilnehmer auf eine spannende Geschmacksreise mitnehmen. Verkostet werden je fünf Weine zusammen mit den Whiskys\, die in den entsprechenden Weinfässern gelagert wurden. \nPreis: 20 Euro \nMargarete Marie betreibt seit über fünf Jahren den Blog „Whiskyundfrauen. Auch für Männer“\, in dem sie immer wieder interessante Whiskys vorstellt und gelegentlich auch einen Blick hinter die Kulissen wirft. Nebenbei ist sie auch Autorin für die Zeitschriften „Whisky-Botschafter“ und „Whisky-Time“. \nFür das Tasting stehen noch einige wenige Restplätze zur Verfügung.\nBisher nicht angemeldete Interessenten melden sich bitte am Veranstaltungstag im Shop der Whiskywelt.
URL:https://whiskywelt-burg-scharfenstein.de/termin/tasting-vom-wein-zum-whisky/
CATEGORIES:Tasting
ATTACH;FMTTYPE=image/jpeg:https://whiskywelt-burg-scharfenstein.de/wp-content/uploads/2019/03/Tasting-e1560511941416.jpeg
END:VEVENT
END:VCALENDAR