BEGIN:VCALENDAR
VERSION:2.0
PRODID:-//Whiskywelt Burg Scharfenstein - ECPv6.15.11//NONSGML v1.0//EN
CALSCALE:GREGORIAN
METHOD:PUBLISH
X-WR-CALNAME:Whiskywelt Burg Scharfenstein
X-ORIGINAL-URL:https://whiskywelt-burg-scharfenstein.de
X-WR-CALDESC:Veranstaltungen für Whiskywelt Burg Scharfenstein
REFRESH-INTERVAL;VALUE=DURATION:PT1H
X-Robots-Tag:noindex
X-PUBLISHED-TTL:PT1H
BEGIN:VTIMEZONE
TZID:Europe/Berlin
BEGIN:DAYLIGHT
TZOFFSETFROM:+0100
TZOFFSETTO:+0200
TZNAME:CEST
DTSTART:20180325T010000
END:DAYLIGHT
BEGIN:STANDARD
TZOFFSETFROM:+0200
TZOFFSETTO:+0100
TZNAME:CET
DTSTART:20181028T010000
END:STANDARD
BEGIN:DAYLIGHT
TZOFFSETFROM:+0100
TZOFFSETTO:+0200
TZNAME:CEST
DTSTART:20190331T010000
END:DAYLIGHT
BEGIN:STANDARD
TZOFFSETFROM:+0200
TZOFFSETTO:+0100
TZNAME:CET
DTSTART:20191027T010000
END:STANDARD
BEGIN:DAYLIGHT
TZOFFSETFROM:+0100
TZOFFSETTO:+0200
TZNAME:CEST
DTSTART:20200329T010000
END:DAYLIGHT
BEGIN:STANDARD
TZOFFSETFROM:+0200
TZOFFSETTO:+0100
TZNAME:CET
DTSTART:20201025T010000
END:STANDARD
END:VTIMEZONE
BEGIN:VEVENT
DTSTART;TZID=Europe/Berlin:20190503T200000
DTEND;TZID=Europe/Berlin:20190503T200000
DTSTAMP:20260421T134718
CREATED:20190410T121546Z
LAST-MODIFIED:20190410T122434Z
UID:1033-1556913600-1556913600@whiskywelt-burg-scharfenstein.de
SUMMARY:Dr. Slide - American Roots & Blues in der Tenne
DESCRIPTION:Wir leben in einer Welt\, die von digitalen Medien beherrscht wird. Musik wird digital solange manipuliert\, bis sie angeblich „perfekt“ klingt.\nAlles Menschliche\, Ecken und Kanten werden dabei wegpoliert. Dr. Slide ist anders\, echt und analog\, will nicht perfekt sein\, lieber wild und frei\, nicht einschläfern\, sondern wachrütteln\, auch mal Widerspruch herausfordern\, mitreißen – lebendig sein!\nKantig\, vom rauen Wind des Lebens gezeichnet\, noch immer hoffnungslos romantisch\, im tadellos sitzenden Anzug\, all das ist Dr. Slide und so klingt seine Musik. Mit seiner unbändigen Energie und einem herrlich schrägen Sinn für Humor – ohne dabei die spirituelle Seite des Lebens zu vernachlässigen – zieht er das Publikum in seinen Bann.\nEr lebt für und durch seine Musik\, spielt aus vollem Herzen und tiefster Seele\, malt seine Lebensgeschichten in ganz eigenen\, echten Farben\, mit einer Stimme\, die unter die Haut geht.\nKinnladen fallen herunter\, wenn er verschiedene Gitarren\, selbst gebaute Instrumente und Squareneck- Dobros virtuos und souverän\, als gäbe es nichts leichteres auf dieser Welt\, hinter dem Kopf spielt\, über Tisch und Stühle balancierend oder einfach nur durch die Reihen spazierend\, um seinem Publikum ganz nah zu sein.\nNach etlichen Zugaben entlässt Dr. Slide seine Zuhörer verzaubert\, mit einem Gefühl neuer Lebendigkeit\, Kraft und Glückseligkeit in diese schöne Welt. \nSein Handwerk erlernte er im Mississippi Delta bei den großen alten Meistern des Blues. „On the Road“ war er u.a. mit John Lee Hooker\, Bo Diddley und Johnny Winter.\nDr. Slide hatte die Ehre\, gemeinsam mit folgenden internationalen Blues-Größen aufzutreten: Pinetop Perkins\, Willie “Big Eyes“ Smith\, R.L. Burnside\, Junior Kimbrough\, John Mooney\, Son Seals\, Luther Allison\, Bob Margolin\, Michael Burks\, Bob Stroger\, Johnny Dillinger\, Fruteland Jackson\, Joey Gilmore\, Eric Sardinas\, Abi Wallenstein\, Marc Breitfelder\, Kees Shippers u.v.a.\nDaraufhin wurde das deutsche Fernsehen auf ihn aufmerksam\, der MDR schickte extra ein Filmteam in die USA\, um dort einen halbstündigen Beitrag über ihn zu produzieren und zu senden. \nEinlass ist um 19.30 Uhr; Beginn um 20 Uhr \nKarten gibt es zum Preis von 20 Euro unter http://www.jonez-entertainment.de/eventz.php \noder im Bürgerbüro in Leinefelde und bei uns im Shop der Whiskywelt
URL:https://whiskywelt-burg-scharfenstein.de/termin/dr-slide-american-roots-blues-in-der-tenne/
CATEGORIES:Konzert
ATTACH;FMTTYPE=image/jpeg:https://whiskywelt-burg-scharfenstein.de/wp-content/uploads/2019/04/Plakat.jpg
END:VEVENT
END:VCALENDAR