BEGIN:VCALENDAR
VERSION:2.0
PRODID:-//Whiskywelt Burg Scharfenstein - ECPv6.15.11//NONSGML v1.0//EN
CALSCALE:GREGORIAN
METHOD:PUBLISH
X-ORIGINAL-URL:https://whiskywelt-burg-scharfenstein.de
X-WR-CALDESC:Veranstaltungen für Whiskywelt Burg Scharfenstein
REFRESH-INTERVAL;VALUE=DURATION:PT1H
X-Robots-Tag:noindex
X-PUBLISHED-TTL:PT1H
BEGIN:VTIMEZONE
TZID:Europe/Berlin
BEGIN:DAYLIGHT
TZOFFSETFROM:+0100
TZOFFSETTO:+0200
TZNAME:CEST
DTSTART:20210328T010000
END:DAYLIGHT
BEGIN:STANDARD
TZOFFSETFROM:+0200
TZOFFSETTO:+0100
TZNAME:CET
DTSTART:20211031T010000
END:STANDARD
BEGIN:DAYLIGHT
TZOFFSETFROM:+0100
TZOFFSETTO:+0200
TZNAME:CEST
DTSTART:20220327T010000
END:DAYLIGHT
BEGIN:STANDARD
TZOFFSETFROM:+0200
TZOFFSETTO:+0100
TZNAME:CET
DTSTART:20221030T010000
END:STANDARD
BEGIN:DAYLIGHT
TZOFFSETFROM:+0100
TZOFFSETTO:+0200
TZNAME:CEST
DTSTART:20230326T010000
END:DAYLIGHT
BEGIN:STANDARD
TZOFFSETFROM:+0200
TZOFFSETTO:+0100
TZNAME:CET
DTSTART:20231029T010000
END:STANDARD
END:VTIMEZONE
BEGIN:VEVENT
DTSTART;TZID=Europe/Berlin:20220619T110000
DTEND;TZID=Europe/Berlin:20220619T123000
DTSTAMP:20260419T194220
CREATED:20220527T084328Z
LAST-MODIFIED:20220527T084512Z
UID:3602-1655636400-1655641800@whiskywelt-burg-scharfenstein.de
SUMMARY:Historische Burgführung
DESCRIPTION:Auf dem Bergsporn des Düns befindet sich einer der schönsten Ausflugsorte des Eichsfelds: die Burg Scharfenstein\, die 1209 erstmals urkundlich erwähnt wird. Für Wanderer\, Naturfreunde und Sportler ist sie zu jeder Jahreszeit ein lohnendes Ziel. Die stattliche Burganlage präsentiert sich dem Besucher als markantes Monument aus Geschichte und Gegenwart. \nWer einmal tiefer in die Geschichte der mehr als 800 Jahre alten Burg Scharfenstein eintauchen möchte\, ist bei dieser geführten historischen Tour genau richtig. Besichtigt wird neben dem Gelände und Burghof auch die Kernburg mit der Whiskyerlebniswelt\, alles natürlich unter dem historischen Apsekt. Geleitet wird die Tour von Dr. Gerd Leuckefeld. \nDauer ca. 1\,5 Stunden. \n  \nBitte melden Sie sich über dieses Formular an: \n\n\n\n  \n\n\n\n Ihr Name (Pflichtfeld)\n \n \n Personenanzahl (Pflichtfeld)\n \n \n Ihre E-Mail-Adresse (Pflichtfeld)\n \n \n Telefon (Pflichtfeld)\n \n \n Hier bitte keine Eingabe machen!\n \nBitte lasse dieses Feld leer.\n \n Deine Nachricht\n\n \nIch habe die Datenschutzerklärung zur Kenntnis genommen. Ich stimme zu\, dass meine Angaben und Daten zur Beantwortung meiner Anfrage elektronisch erhoben und gespeichert werden.
URL:https://whiskywelt-burg-scharfenstein.de/termin/historische-burgfuehrung-2/
CATEGORIES:Historische Tour
END:VEVENT
END:VCALENDAR