BEGIN:VCALENDAR
VERSION:2.0
PRODID:-//Whiskywelt Burg Scharfenstein - ECPv6.15.11//NONSGML v1.0//EN
CALSCALE:GREGORIAN
METHOD:PUBLISH
X-ORIGINAL-URL:https://whiskywelt-burg-scharfenstein.de
X-WR-CALDESC:Veranstaltungen für Whiskywelt Burg Scharfenstein
REFRESH-INTERVAL;VALUE=DURATION:PT1H
X-Robots-Tag:noindex
X-PUBLISHED-TTL:PT1H
BEGIN:VTIMEZONE
TZID:Europe/Berlin
BEGIN:DAYLIGHT
TZOFFSETFROM:+0100
TZOFFSETTO:+0200
TZNAME:CEST
DTSTART:20190331T010000
END:DAYLIGHT
BEGIN:STANDARD
TZOFFSETFROM:+0200
TZOFFSETTO:+0100
TZNAME:CET
DTSTART:20191027T010000
END:STANDARD
BEGIN:DAYLIGHT
TZOFFSETFROM:+0100
TZOFFSETTO:+0200
TZNAME:CEST
DTSTART:20200329T010000
END:DAYLIGHT
BEGIN:STANDARD
TZOFFSETFROM:+0200
TZOFFSETTO:+0100
TZNAME:CET
DTSTART:20201025T010000
END:STANDARD
BEGIN:DAYLIGHT
TZOFFSETFROM:+0100
TZOFFSETTO:+0200
TZNAME:CEST
DTSTART:20210328T010000
END:DAYLIGHT
BEGIN:STANDARD
TZOFFSETFROM:+0200
TZOFFSETTO:+0100
TZNAME:CET
DTSTART:20211031T010000
END:STANDARD
END:VTIMEZONE
BEGIN:VEVENT
DTSTART;TZID=Europe/Berlin:20200627T110000
DTEND;TZID=Europe/Berlin:20200627T230000
DTSTAMP:20260422T101720
CREATED:20200302T134055Z
LAST-MODIFIED:20200617T094239Z
UID:1955-1593255600-1593298800@whiskywelt-burg-scharfenstein.de
SUMMARY:Tag des deutschen Whiskys
DESCRIPTION:Im Sommer 2019 feierte der „Tag des deutschen Whiskys“ bei uns auf Burg Scharfenstein seine Premiere und auch 2020 soll es wieder einen Tag geben\, der ganz im Zeichen des „Wassers des Lebens“ steht. Ab 16 Uhr laden wir zum Tag der offenen Destille in die Whiskywelt Burg Scharfenstein ein. Jeweils um 15\, 16.30 und 18 Uhr wird es geführte Touren durch die Burg und die Whiskywelt geben. Außerdem wird unser Brennmeister die Whiskyherstellung beim Schaudestillieren ausführlich erläutern und vorführen sowie bei allen Fragen zum Whisky allgemein und zum Deutschen Whisky im Besonderen Rede und Antwort stehen. Außerdem können die Besucher bei insgesamt 3 verschiedenen Tastings ausgewählte edle Tropfen aus deutschen Brennereien genießen. \nAußerhalb der Tastingzeiten könnt Ihr übrigens auch verschiedenste internationale Whiskys in unserer Bergfriedbar probieren. \nEin buntes Rahmenprogramm wird den Tag gekonnt abrunden. Musikalisch begleitet uns „Janna“ mit keltischen Klängen durch den Tag und kulinarisch überrascht Euch unser Hotelier Martin Henning mit verschiedenen Leckereien vom Grill.
URL:https://whiskywelt-burg-scharfenstein.de/termin/tag-des-deutschen-whiskys-2/
ATTACH;FMTTYPE=image/jpeg:https://whiskywelt-burg-scharfenstein.de/wp-content/uploads/2014/07/Whisky9.jpg
END:VEVENT
BEGIN:VEVENT
DTSTART;TZID=Europe/Berlin:20200627T163000
DTEND;TZID=Europe/Berlin:20200627T223000
DTSTAMP:20260422T101720
CREATED:20191217T135648Z
LAST-MODIFIED:20200617T095454Z
UID:1709-1593275400-1593297000@whiskywelt-burg-scharfenstein.de
SUMMARY:Whisky-Tastings zum Tag des deutschen Whiskys
DESCRIPTION:Zu 3 verschiedenen Whiskytastings im Rahmen des Tags des deutschen Whiskys laden wir am 27. Juni 2020 herzlich ein. \nTasting I: Deutsche Whiskys –  mit Hans Strenge\nStart 19.00 Uhr im Gewölbekeller (Kosten 50 Euro) – Leider ist dieses Tasting bereits ausgebucht. \nTasting II: Best of Nine Springs –  mit Margarete Marie\nStart 19.30 Uhr im Standesamt (Kosten 30 Euro) – Leider ist dieses Tasting bereits ausgebucht. \nTasting III: Whisky & Schokolade –  mit Margarete Marie\nStart 16.30 Uhr im Standesamt (Kosten 35 Euro) – Leider ist dieses Tasting bereits ausgebucht.
URL:https://whiskywelt-burg-scharfenstein.de/termin/whiskytasting-11/
CATEGORIES:Tasting
ATTACH;FMTTYPE=image/jpeg:https://whiskywelt-burg-scharfenstein.de/wp-content/uploads/2018/03/DSC_9266-e1573648871372.jpg
END:VEVENT
END:VCALENDAR