BEGIN:VCALENDAR
VERSION:2.0
PRODID:-//Whiskywelt Burg Scharfenstein - ECPv6.15.11//NONSGML v1.0//EN
CALSCALE:GREGORIAN
METHOD:PUBLISH
X-ORIGINAL-URL:https://whiskywelt-burg-scharfenstein.de
X-WR-CALDESC:Veranstaltungen für Whiskywelt Burg Scharfenstein
REFRESH-INTERVAL;VALUE=DURATION:PT1H
X-Robots-Tag:noindex
X-PUBLISHED-TTL:PT1H
BEGIN:VTIMEZONE
TZID:Europe/Berlin
BEGIN:DAYLIGHT
TZOFFSETFROM:+0100
TZOFFSETTO:+0200
TZNAME:CEST
DTSTART:20200329T010000
END:DAYLIGHT
BEGIN:STANDARD
TZOFFSETFROM:+0200
TZOFFSETTO:+0100
TZNAME:CET
DTSTART:20201025T010000
END:STANDARD
BEGIN:DAYLIGHT
TZOFFSETFROM:+0100
TZOFFSETTO:+0200
TZNAME:CEST
DTSTART:20210328T010000
END:DAYLIGHT
BEGIN:STANDARD
TZOFFSETFROM:+0200
TZOFFSETTO:+0100
TZNAME:CET
DTSTART:20211031T010000
END:STANDARD
BEGIN:DAYLIGHT
TZOFFSETFROM:+0100
TZOFFSETTO:+0200
TZNAME:CEST
DTSTART:20220327T010000
END:DAYLIGHT
BEGIN:STANDARD
TZOFFSETFROM:+0200
TZOFFSETTO:+0100
TZNAME:CET
DTSTART:20221030T010000
END:STANDARD
END:VTIMEZONE
BEGIN:VEVENT
DTSTART;TZID=Europe/Berlin:20210612T150000
DTEND;TZID=Europe/Berlin:20210612T163000
DTSTAMP:20260421T130413
CREATED:20210601T112445Z
LAST-MODIFIED:20210601T112445Z
UID:2682-1623510000-1623515400@whiskywelt-burg-scharfenstein.de
SUMMARY:Geführte Whiskytour
DESCRIPTION:Wie lange muss ein Destillat lagern\, bevor es sich Whisky nennen darf\, was ist ein Single Malt und woraus besteht eigentlich der so genannte „Angel Share“? All das sind Fragen\, denen die Teilnehmer bei unseren regelmäßig stattfindenden geführten Whiskytouren auf den Grund gehen können. Nach dem einführenden Film in unserem Whiskykino geht es in der Whiskyerlebniswelt mit unserem fachkundigen Guide auf Erkundungstour\, bevor im Anschluss im Gewölbekeller zwei verschiedene Whiskys verkostet werden. Die Tour dauert ca. 1\,5 bis 2 Stunden und eine Teilnahme ist nur nach Voranmeldung unter info@whiskywelt-scharfenstein.de oder über unser Kontaktformular möglich. \nPreis pro Person € 18\,00 \n  \n\n\n\n  \n\n\n\n Ihr Name (Pflichtfeld)\n \n \n Personenanzahl (Pflichtfeld)\n \n \n Ihre E-Mail-Adresse (Pflichtfeld)\n \n \n Telefon (Pflichtfeld)\n \n \n Hier bitte keine Eingabe machen!\n \nBitte lasse dieses Feld leer.\n \n Deine Nachricht\n\n \nIch habe die Datenschutzerklärung zur Kenntnis genommen. Ich stimme zu\, dass meine Angaben und Daten zur Beantwortung meiner Anfrage elektronisch erhoben und gespeichert werden.
URL:https://whiskywelt-burg-scharfenstein.de/termin/gefuehrte-whiskytour-63/
CATEGORIES:Geführte Whiskytouren
ATTACH;FMTTYPE=image/jpeg:https://whiskywelt-burg-scharfenstein.de/wp-content/uploads/2019/05/24-e1559807263720.jpg
END:VEVENT
END:VCALENDAR