BEGIN:VCALENDAR
VERSION:2.0
PRODID:-//Whiskywelt Burg Scharfenstein - ECPv6.15.11//NONSGML v1.0//EN
CALSCALE:GREGORIAN
METHOD:PUBLISH
X-WR-CALNAME:Whiskywelt Burg Scharfenstein
X-ORIGINAL-URL:https://whiskywelt-burg-scharfenstein.de
X-WR-CALDESC:Veranstaltungen für Whiskywelt Burg Scharfenstein
REFRESH-INTERVAL;VALUE=DURATION:PT1H
X-Robots-Tag:noindex
X-PUBLISHED-TTL:PT1H
BEGIN:VTIMEZONE
TZID:Europe/Berlin
BEGIN:DAYLIGHT
TZOFFSETFROM:+0100
TZOFFSETTO:+0200
TZNAME:CEST
DTSTART:20200329T010000
END:DAYLIGHT
BEGIN:STANDARD
TZOFFSETFROM:+0200
TZOFFSETTO:+0100
TZNAME:CET
DTSTART:20201025T010000
END:STANDARD
BEGIN:DAYLIGHT
TZOFFSETFROM:+0100
TZOFFSETTO:+0200
TZNAME:CEST
DTSTART:20210328T010000
END:DAYLIGHT
BEGIN:STANDARD
TZOFFSETFROM:+0200
TZOFFSETTO:+0100
TZNAME:CET
DTSTART:20211031T010000
END:STANDARD
BEGIN:DAYLIGHT
TZOFFSETFROM:+0100
TZOFFSETTO:+0200
TZNAME:CEST
DTSTART:20220327T010000
END:DAYLIGHT
BEGIN:STANDARD
TZOFFSETFROM:+0200
TZOFFSETTO:+0100
TZNAME:CET
DTSTART:20221030T010000
END:STANDARD
END:VTIMEZONE
BEGIN:VEVENT
DTSTART;TZID=Europe/Berlin:20211001T190000
DTEND;TZID=Europe/Berlin:20211001T190000
DTSTAMP:20260421T054533
CREATED:20210730T092622Z
LAST-MODIFIED:20210730T092836Z
UID:2771-1633114800-1633114800@whiskywelt-burg-scharfenstein.de
SUMMARY:Whiskytasting mit Mario Sammler
DESCRIPTION:Am 1. Oktober ist es wieder soweit\, „The Quaich“ Mario Sammler lädt im Gewölbekeller unserer Whiskywelt zum Tastingabend\, bei dem sich alles um das Thema „Peated Whisky“ drehen soll. Nach einem kurzen Rundgang durch die Whiskyerlebniswelt erfahren die Teilnehmer beim Tasting allerlei Wissenswertes über das „Wasser des Lebens“ im Allgemeinen und die Herstellung von getorften Whiskys im Speziellen. Natürlich werden auch fünf Edelspirituosen verkostet. \nReferent: Mario Sammler/ Thema: „Peated Whisky“ / Kosten: € 60.00 \n  \n\n\n\n  \n\n\n\n Ihr Name (Pflichtfeld)\n \n \n Personenanzahl (Pflichtfeld)\n \n \n Ihre E-Mail-Adresse (Pflichtfeld)\n \n \n Telefon (Pflichtfeld)\n \n \n Hier bitte keine Eingabe machen!\n \nBitte lasse dieses Feld leer.\n \n Deine Nachricht\n\n \nIch habe die Datenschutzerklärung zur Kenntnis genommen. Ich stimme zu\, dass meine Angaben und Daten zur Beantwortung meiner Anfrage elektronisch erhoben und gespeichert werden.
URL:https://whiskywelt-burg-scharfenstein.de/termin/whiskytasting-mit-mario-sammler/
CATEGORIES:Tasting
ATTACH;FMTTYPE=image/jpeg:https://whiskywelt-burg-scharfenstein.de/wp-content/uploads/2019/06/IMG-20190531-WA0003-e1559806884797.jpg
END:VEVENT
END:VCALENDAR